BEGIN:VCALENDAR
VERSION:2.0
PRODID:-//St Barnabas Christian Preschool - ECPv6.15.20//NONSGML v1.0//EN
CALSCALE:GREGORIAN
METHOD:PUBLISH
X-ORIGINAL-URL:https://stbarnabaschristianpreschool.org
X-WR-CALDESC:Events for St Barnabas Christian Preschool
REFRESH-INTERVAL;VALUE=DURATION:PT1H
X-Robots-Tag:noindex
X-PUBLISHED-TTL:PT1H
BEGIN:VTIMEZONE
TZID:UTC
BEGIN:STANDARD
TZOFFSETFROM:+0000
TZOFFSETTO:+0000
TZNAME:UTC
DTSTART:20240101T000000
END:STANDARD
END:VTIMEZONE
BEGIN:VEVENT
DTSTART;TZID=UTC:20251206T090000
DTEND;TZID=UTC:20251206T110000
DTSTAMP:20260425T193024
CREATED:20241102T043410Z
LAST-MODIFIED:20251114T033409Z
UID:379-1765011600-1765018800@stbarnabaschristianpreschool.org
SUMMARY:Breakfast with Santa
DESCRIPTION:You better watch out\, you better not pout\, because Santa Claus is coming to breakfast!
URL:https://stbarnabaschristianpreschool.org/event/breakfast-with-santa/
LOCATION:St Barnabas Christian Preschool\, 8901 Cary Algonquin Rd\, Cary\, IL\, 60013\, United States
CATEGORIES:Preschool Event
ATTACH;FMTTYPE=image/png:https://stbarnabaschristianpreschool.org/wp-content/uploads/2022/11/BreakfastwithSanta-1.png
END:VEVENT
END:VCALENDAR