BEGIN:VCALENDAR
VERSION:2.0
PRODID:-//St Barnabas Christian Preschool - ECPv6.15.20//NONSGML v1.0//EN
CALSCALE:GREGORIAN
METHOD:PUBLISH
X-WR-CALNAME:St Barnabas Christian Preschool
X-ORIGINAL-URL:https://stbarnabaschristianpreschool.org
X-WR-CALDESC:Events for St Barnabas Christian Preschool
REFRESH-INTERVAL;VALUE=DURATION:PT1H
X-Robots-Tag:noindex
X-PUBLISHED-TTL:PT1H
BEGIN:VTIMEZONE
TZID:America/Chicago
BEGIN:DAYLIGHT
TZOFFSETFROM:-0600
TZOFFSETTO:-0500
TZNAME:CDT
DTSTART:20250309T080000
END:DAYLIGHT
BEGIN:STANDARD
TZOFFSETFROM:-0500
TZOFFSETTO:-0600
TZNAME:CST
DTSTART:20251102T070000
END:STANDARD
BEGIN:DAYLIGHT
TZOFFSETFROM:-0600
TZOFFSETTO:-0500
TZNAME:CDT
DTSTART:20260308T080000
END:DAYLIGHT
BEGIN:STANDARD
TZOFFSETFROM:-0500
TZOFFSETTO:-0600
TZNAME:CST
DTSTART:20261101T070000
END:STANDARD
BEGIN:DAYLIGHT
TZOFFSETFROM:-0600
TZOFFSETTO:-0500
TZNAME:CDT
DTSTART:20270314T080000
END:DAYLIGHT
BEGIN:STANDARD
TZOFFSETFROM:-0500
TZOFFSETTO:-0600
TZNAME:CST
DTSTART:20271107T070000
END:STANDARD
END:VTIMEZONE
BEGIN:VEVENT
DTSTART;VALUE=DATE:20260202
DTEND;VALUE=DATE:20260207
DTSTAMP:20260425T171631
CREATED:20230809T201830Z
LAST-MODIFIED:20250710T152838Z
UID:768-1769990400-1770422399@stbarnabaschristianpreschool.org
SUMMARY:Preschool Registration
DESCRIPTION:
URL:https://stbarnabaschristianpreschool.org/event/preschool-registration/
LOCATION:IL
CATEGORIES:Preschool Event
ATTACH;FMTTYPE=image/png:https://stbarnabaschristianpreschool.org/wp-content/uploads/2023/08/registration.png
END:VEVENT
END:VCALENDAR